BEGIN:VCALENDAR
VERSION:2.0
PRODID:-//RMCA - ECPv4.6.2//NONSGML v1.0//EN
CALSCALE:GREGORIAN
METHOD:PUBLISH
X-WR-CALNAME:RMCA
X-ORIGINAL-URL:http://rmca.org.nz
X-WR-CALDESC:Events for RMCA
BEGIN:VEVENT
DTSTART;TZID=Pacific/Auckland:20161022T163000
DTEND;TZID=Pacific/Auckland:20161022T183000
DTSTAMP:20180124T054200
CREATED:20160918T002747Z
LAST-MODIFIED:20160918T002747Z
UID:304-1477153800-1477161000@rmca.org.nz
SUMMARY:RMCA Annual General Meeting
DESCRIPTION:\nNOTICE OF RMCA ANNUAL GENERAL MEETING \nto be held \n4.30pm Saturday October 22nd  at Happy Valley Bistro \nto be followed by the \nAnnual Dinner at Lorenzo’s Cafe 6.30pm (costs to be advised) \n
URL:http://rmca.org.nz/event/rmca-annual-general-meeting/
LOCATION:Happy Valley Cafe\, Iwikau Village\, Mt Ruapehu\, New Zealand
END:VEVENT
END:VCALENDAR