BEGIN:VCALENDAR
VERSION:2.0
PRODID:-//RMCA - ECPv4.6.2//NONSGML v1.0//EN
CALSCALE:GREGORIAN
METHOD:PUBLISH
X-WR-CALNAME:RMCA
X-ORIGINAL-URL:http://rmca.org.nz
X-WR-CALDESC:Events for RMCA
BEGIN:VEVENT
DTSTART;TZID=Pacific/Auckland:20161022T140000
DTEND;TZID=Pacific/Auckland:20161022T160000
DTSTAMP:20180124T054202
CREATED:20160918T003410Z
LAST-MODIFIED:20160918T003410Z
UID:306-1477144800-1477152000@rmca.org.nz
SUMMARY:RMCA Insurance Scheme Annual General Meeting
DESCRIPTION:NOTICE OF RMCA INSURANCE SCHEME ANNUAL GENERAL MEETING \nto be held \n2pm Saturday October 22nd  at Aorangi Ski Club\, Iwikau Village \n
URL:http://rmca.org.nz/event/rmca-insurance-scheme-annual-general-meeting/
LOCATION:Iwikau Village\, Mt Ruapehu\, New Zealand
END:VEVENT
END:VCALENDAR